BEGIN:VCALENDAR
VERSION:2.0
PRODID:-//wp-events-plugin.com//7.2.3.1//EN
TZID:Europe/Paris
X-WR-TIMEZONE:Europe/Paris
BEGIN:VEVENT
UID:197@htba.fr
DTSTART;TZID=Europe/Paris:20260509T143000
DTEND;TZID=Europe/Paris:20260509T163000
DTSTAMP:20260402T163732Z
URL:https://htba.fr/events/visite-gratuite-du-quartier-du-moulleau-partie-
 nord/
SUMMARY:Visite gratuite du quartier du Moulleau\, partie nord
DESCRIPTION:Samedi 9 mai à 14 h 30\, visite gratuite du quartier du Moulle
 au\, partie nord. Arcachon Ville Impériale. Rendez-vous sur le parvis de 
 l’église Notre-Dame des Passes.
CATEGORIES:Visites patrimoniales
LOCATION:Notre-Dame des Passes au Moulleau\, Le Moulleau\, Arcachon\, Franc
 e
X-APPLE-STRUCTURED-LOCATION;VALUE=URI;X-ADDRESS=Le Moulleau\, Arcachon\, Fr
 ance;X-APPLE-RADIUS=100;X-TITLE=Notre-Dame des Passes au Moulleau:geo:0,0
END:VEVENT
BEGIN:VTIMEZONE
TZID:Europe/Paris
X-LIC-LOCATION:Europe/Paris
BEGIN:DAYLIGHT
DTSTART:20260329T030000
TZOFFSETFROM:+0100
TZOFFSETTO:+0200
TZNAME:CEST
END:DAYLIGHT
END:VTIMEZONE
END:VCALENDAR