BEGIN:VCALENDAR
VERSION:2.0
PRODID:-//wp-events-plugin.com//7.2.3.1//EN
TZID:Europe/Paris
X-WR-TIMEZONE:Europe/Paris
BEGIN:VEVENT
UID:139@htba.fr
DTSTART;TZID=Europe/Paris:20250514T093000
DTEND;TZID=Europe/Paris:20250514T113000
DTSTAMP:20250512T144107Z
URL:https://htba.fr/events/visite-gratuite-de-la-ville-dhiver-partie-ouest
 -n-2-2/
SUMMARY:Visite gratuite de la Ville d’Hiver\, partie « Ouest » n° 2
DESCRIPTION:Mercredi 14 mai à 9 h 30\, visite gratuite de la Ville d’Hiv
 er\, partie « Ouest » n° 2. Arcachon Ville Impériale. Rendez-vous au P
 arc Mauresque\, près de la maquette du Casino Mauresque.
CATEGORIES:Visites patrimoniales
LOCATION:Parc Mauresque à Arcachon\, Parc Mauresque\, Arcachon\, France
X-APPLE-STRUCTURED-LOCATION;VALUE=URI;X-ADDRESS=Parc Mauresque\, Arcachon\,
  France;X-APPLE-RADIUS=100;X-TITLE=Parc Mauresque à Arcachon:geo:0,0
END:VEVENT
BEGIN:VTIMEZONE
TZID:Europe/Paris
X-LIC-LOCATION:Europe/Paris
BEGIN:DAYLIGHT
DTSTART:20250330T030000
TZOFFSETFROM:+0100
TZOFFSETTO:+0200
TZNAME:CEST
END:DAYLIGHT
END:VTIMEZONE
END:VCALENDAR